BEGIN:VCALENDAR
VERSION:2.0
PRODID:-//ChamberMaster//Event Calendar 2.0//EN
METHOD:PUBLISH
X-PUBLISHED-TTL:P3D
REFRESH-INTERVAL:P3D
CALSCALE:GREGORIAN
BEGIN:VEVENT
DTSTART:20260901T190000Z
DTEND:20260901T210000Z
X-MICROSOFT-CDO-ALLDAYEVENT:FALSE
SUMMARY:WIN Happy Hour
DESCRIPTION:SAVE THE DATE!\n\n\n\nJOIN THE WOMEN IN NARI (WIN) for a hosted Happy Hour-  Sponsored by Skufca Law.  \n\nEnjoy cocktails\, snacks\, and networking with Charlotte's amazing women in remodeling.  Alexia Martin and Jordan Burke will be offering us a short presentation:\n\n\nIf You're Not Involved\, You're At Risk\n\nMany successful women are listed in estate plans - but not truly involved.\n\nJoin Attorneys Alexia Martin and Jordan Burke of Skufca Law for a candid\, scenario-driven Real Talk Happy Hour where we break down what that can cost you\, and how to fix it. No jargon\, no lecture  just real conversation\, practical insights\, and a drink in hand. Come for the connection\, stay for the clarity. Leave knowing exactly what steps to take next.
X-ALT-DESC;FMTTYPE=text/html:SAVE THE DATE!<br />\n<br />\nJOIN THE WOMEN IN NARI (WIN) for a hosted Happy Hour-&nbsp\; Sponsored by Skufca Law.&nbsp\;&nbsp\;<br />\nEnjoy cocktails\, snacks\, and networking with Charlotte&#39\;s amazing women in remodeling.&nbsp\; Alexia Martin and Jordan Burke will be offering us a short presentation:\n<p style="margin: 0in\; font-family: Aptos\, sans-serif\; font-size: 12pt\;"><br />\n<span style="font-size:12px\;"><span style="font-family:arial\;"><b data-olk-copy-source="MailCompose">If You&rsquo\;re Not Involved\, You&rsquo\;re At Risk</b></span></span></p>\n\n<p style="margin: 0in\; font-family: Aptos\, sans-serif\; font-size: 12pt\;"><span style="font-size:12px\;"><span style="font-family:arial\;">Many successful women are listed in estate plans - but not truly involved.</span></span></p>\n\n<p style="margin: 0in\; font-family: Aptos\, sans-serif\; font-size: 12pt\;"><span style="font-size:12px\;"><span style="font-family:arial\;">Join Attorneys Alexia Martin and Jordan Burke of Skufca Law for a candid\, scenario-driven Real Talk Happy Hour where we break down what that can cost you\, and how to fix it. No jargon\, no lecture&hellip\; just real conversation\, practical insights\, and a drink in hand. Come for the connection\, stay for the clarity. Leave knowing exactly what steps to take next.</span></span></p>\n
LOCATION:TBD
UID:e.9530.470
SEQUENCE:3
DTSTAMP:20260419T173900Z
URL:https://www.naricharlotte.com/events/details/win-happy-hour-470
END:VEVENT

END:VCALENDAR
